BEGIN:VCALENDAR
VERSION:2.0
PRODID:-//ORTOC | Office Regional du Tourisme de l&#039;Ouest Cameroun - ECPv6.13.2.1//NONSGML v1.0//EN
CALSCALE:GREGORIAN
METHOD:PUBLISH
X-ORIGINAL-URL:https://tourismeouestcameroun.com
X-WR-CALDESC:Events for ORTOC | Office Regional du Tourisme de l&#039;Ouest Cameroun
REFRESH-INTERVAL;VALUE=DURATION:PT1H
X-Robots-Tag:noindex
X-PUBLISHED-TTL:PT1H
BEGIN:VTIMEZONE
TZID:Europe/Paris
BEGIN:DAYLIGHT
TZOFFSETFROM:+0100
TZOFFSETTO:+0200
TZNAME:CEST
DTSTART:20250330T010000
END:DAYLIGHT
BEGIN:STANDARD
TZOFFSETFROM:+0200
TZOFFSETTO:+0100
TZNAME:CET
DTSTART:20251026T010000
END:STANDARD
END:VTIMEZONE
BEGIN:VEVENT
DTSTART;TZID=Europe/Paris:20250523T133000
DTEND;TZID=Europe/Paris:20250523T170000
DTSTAMP:20260421T115836
CREATED:20250523T100012Z
LAST-MODIFIED:20250523T100012Z
UID:5381-1748007000-1748019600@tourismeouestcameroun.com
SUMMARY:FANTASIA  de sortie de prière
DESCRIPTION:Exécutée en l’honneur du sultan roi des\nBamoun
URL:https://tourismeouestcameroun.com/event/fantasia-de-sortie-de-priere/
LOCATION:Palais des Rois  BAMOUN\, Foumban\, Cameroon
ATTACH;FMTTYPE=image/jpeg:https://tourismeouestcameroun.com/wp-content/uploads/2025/05/DSC02052-scaled.jpg
END:VEVENT
END:VCALENDAR